BEGIN:VCALENDAR
VERSION:2.0
PRODID:-//Bethel University - ECPv6.15.16//NONSGML v1.0//EN
CALSCALE:GREGORIAN
METHOD:PUBLISH
X-WR-CALNAME:Bethel University
X-ORIGINAL-URL:https://betheluniversity.edu
X-WR-CALDESC:Events for Bethel University
REFRESH-INTERVAL;VALUE=DURATION:PT1H
X-Robots-Tag:noindex
X-PUBLISHED-TTL:PT1H
BEGIN:VTIMEZONE
TZID:America/Indiana/Indianapolis
BEGIN:DAYLIGHT
TZOFFSETFROM:-0500
TZOFFSETTO:-0400
TZNAME:EDT
DTSTART:20250309T070000
END:DAYLIGHT
BEGIN:STANDARD
TZOFFSETFROM:-0400
TZOFFSETTO:-0500
TZNAME:EST
DTSTART:20251102T060000
END:STANDARD
BEGIN:DAYLIGHT
TZOFFSETFROM:-0500
TZOFFSETTO:-0400
TZNAME:EDT
DTSTART:20260308T070000
END:DAYLIGHT
BEGIN:STANDARD
TZOFFSETFROM:-0400
TZOFFSETTO:-0500
TZNAME:EST
DTSTART:20261101T060000
END:STANDARD
BEGIN:DAYLIGHT
TZOFFSETFROM:-0500
TZOFFSETTO:-0400
TZNAME:EDT
DTSTART:20270314T070000
END:DAYLIGHT
BEGIN:STANDARD
TZOFFSETFROM:-0400
TZOFFSETTO:-0500
TZNAME:EST
DTSTART:20271107T060000
END:STANDARD
END:VTIMEZONE
BEGIN:VEVENT
DTSTART;VALUE=DATE:20260706
DTEND;VALUE=DATE:20260710
DTSTAMP:20260422T074851
CREATED:20260410T153551Z
LAST-MODIFIED:20260416T234443Z
UID:10001079-1783296000-1783641599@betheluniversity.edu
SUMMARY:Boys & Girls Basketball Junior Pilot Camps
DESCRIPTION:A fun\, beginner-friendly camp for younger kids to learn the basics of basketball. Campers will stay active\, build confidence\, and enjoy time on the court.\nCamp details:\n\nAges: 4-7\nCost: $80\nCheck-In: First day of camp / 8:30 AM\nCamp Runs: 9:00 AM – 11:00 AM\n\nRegister Now \nLearn More
URL:https://betheluniversity.edu/event/boys-girls-basketball-junior-pilot-camps-2/
LOCATION:Wiekamp Athletic Center\, 1001 Bethel Circle\, Mishawaka\, IN\, 46545\, United States
CATEGORIES:Summer Camps,Athletics
ATTACH;FMTTYPE=image/jpeg:https://betheluniversity.edu/wp-content/uploads/2023/09/Athletics-Logo-Event-498x280-1.jpg
ORGANIZER;CN="Bethel University Athletics Department":MAILTO:Athletics@BethelUniversity.edu
END:VEVENT
BEGIN:VEVENT
DTSTART;VALUE=DATE:20260706
DTEND;VALUE=DATE:20260710
DTSTAMP:20260422T074852
CREATED:20260410T153551Z
LAST-MODIFIED:20260416T234449Z
UID:10001076-1783296000-1783641599@betheluniversity.edu
SUMMARY:Boys Basketball Day Camps
DESCRIPTION:A full-day camp focused on building basketball skills through drills\, games\, and competition. Great for players who want to improve and have fun on the court.\nCamp details:\n\nAges: 8-16\nCost: $240\nCheck-In: First day of camp / 8:30 AM\nCamp Runs: 9:30 AM – 3:00 PM\n\nRegister Now \nLearn More
URL:https://betheluniversity.edu/event/boys-basketball-day-camps-3/
LOCATION:Wiekamp Athletic Center\, 1001 Bethel Circle\, Mishawaka\, IN\, 46545\, United States
CATEGORIES:Summer Camps,Athletics
ATTACH;FMTTYPE=image/jpeg:https://betheluniversity.edu/wp-content/uploads/2023/09/Athletics-Logo-Event-498x280-1.jpg
ORGANIZER;CN="Bethel University Athletics Department":MAILTO:Athletics@BethelUniversity.edu
END:VEVENT
BEGIN:VEVENT
DTSTART;VALUE=DATE:20260706
DTEND;VALUE=DATE:20260710
DTSTAMP:20260422T074852
CREATED:20260410T153551Z
LAST-MODIFIED:20260416T234435Z
UID:10001092-1783296000-1783641599@betheluniversity.edu
SUMMARY:Boys & Girls Track & Field Morning Camp
DESCRIPTION:A morning camp introducing athletes to a variety of track and field events. Campers will build skills while staying active and having fun.\nCamp details:\n\nAges: 8-12\nCost: $160\nCheck-In: First day of camp / 9:30 AM\nCamp Runs: 9:30 AM – 12:00 PM\n\nRegister Now \nLearn More
URL:https://betheluniversity.edu/event/boys-girls-track-field-morning-camp/
LOCATION:Wiekamp Athletic Center\, 1001 Bethel Circle\, Mishawaka\, IN\, 46545\, United States
CATEGORIES:Summer Camps,Athletics
ATTACH;FMTTYPE=image/jpeg:https://betheluniversity.edu/wp-content/uploads/2023/09/Athletics-Logo-Event-498x280-1.jpg
ORGANIZER;CN="Bethel University Athletics Department":MAILTO:Athletics@BethelUniversity.edu
END:VEVENT
BEGIN:VEVENT
DTSTART;VALUE=DATE:20260706
DTEND;VALUE=DATE:20260710
DTSTAMP:20260422T074852
CREATED:20260410T153551Z
LAST-MODIFIED:20260416T234454Z
UID:10001093-1783296000-1783641599@betheluniversity.edu
SUMMARY:Boys & Girls Track & Field Afternoon Camp
DESCRIPTION:A morning camp introducing athletes to a variety of track and field events. Campers will build skills while staying active and having fun.\nCamp details:\n\nAges: 13-17\nCost: $100 per session\nCheck-In: First day of camp / 12:00 PM\nCamp Runs:\n\nSprints: 12:30 PM – 2:00 PM\nHurdles: 2:00 PM – 3:30 PM\nJumps: 3:30 PM – 5:00 PM\n\n\n\nRegister Now \nLearn More
URL:https://betheluniversity.edu/event/boys-girls-track-field-afternoon-camp/
LOCATION:Wiekamp Athletic Center\, 1001 Bethel Circle\, Mishawaka\, IN\, 46545\, United States
CATEGORIES:Summer Camps,Athletics
ATTACH;FMTTYPE=image/jpeg:https://betheluniversity.edu/wp-content/uploads/2023/09/Athletics-Logo-Event-498x280-1.jpg
ORGANIZER;CN="Bethel University Athletics Department":MAILTO:Athletics@BethelUniversity.edu
END:VEVENT
BEGIN:VEVENT
DTSTART;VALUE=DATE:20260713
DTEND;VALUE=DATE:20260717
DTSTAMP:20260422T074852
CREATED:20260410T153551Z
LAST-MODIFIED:20260416T234429Z
UID:10001080-1783900800-1784246399@betheluniversity.edu
SUMMARY:Boys & Girls Basketball Junior Pilot Camps
DESCRIPTION:A fun\, beginner-friendly camp for younger kids to learn the basics of basketball. Campers will stay active\, build confidence\, and enjoy time on the court.\nCamp details:\n\nAges: 4-7\nCost: $80\nCheck-In: First day of camp / 8:30 AM\nCamp Runs: 9:00 AM – 11:00 AM\n\nRegister Now \nLearn More
URL:https://betheluniversity.edu/event/boys-girls-basketball-junior-pilot-camps-2-2/
LOCATION:Wiekamp Athletic Center\, 1001 Bethel Circle\, Mishawaka\, IN\, 46545\, United States
CATEGORIES:Summer Camps,Athletics
ATTACH;FMTTYPE=image/jpeg:https://betheluniversity.edu/wp-content/uploads/2023/09/Athletics-Logo-Event-498x280-1.jpg
ORGANIZER;CN="Bethel University Athletics Department":MAILTO:Athletics@BethelUniversity.edu
END:VEVENT
BEGIN:VEVENT
DTSTART;VALUE=DATE:20260713
DTEND;VALUE=DATE:20260717
DTSTAMP:20260422T074852
CREATED:20260410T153551Z
LAST-MODIFIED:20260416T234420Z
UID:10001077-1783900800-1784246399@betheluniversity.edu
SUMMARY:Boys Basketball Day Camps
DESCRIPTION:A full-day camp focused on building basketball skills through drills\, games\, and competition. Great for players who want to improve and have fun on the court.\nCamp details:\n\nAges: 8-16\nCost: $240\nCheck-In: First day of camp / 8:30 AM\nCamp Runs: 9:30 AM – 3:00 PM\n\nRegister Now \nLearn More
URL:https://betheluniversity.edu/event/boys-basketball-day-camps-2/
LOCATION:Wiekamp Athletic Center\, 1001 Bethel Circle\, Mishawaka\, IN\, 46545\, United States
CATEGORIES:Summer Camps,Athletics
ATTACH;FMTTYPE=image/jpeg:https://betheluniversity.edu/wp-content/uploads/2023/09/Athletics-Logo-Event-498x280-1.jpg
ORGANIZER;CN="Bethel University Athletics Department":MAILTO:Athletics@BethelUniversity.edu
END:VEVENT
BEGIN:VEVENT
DTSTART;VALUE=DATE:20260713
DTEND;VALUE=DATE:20260717
DTSTAMP:20260422T074852
CREATED:20260416T145756Z
LAST-MODIFIED:20260416T234411Z
UID:10001085-1783900800-1784246399@betheluniversity.edu
SUMMARY:Boys & Girls Tennis Camp
DESCRIPTION:A camp designed to help players improve their tennis skills through instruction and match play. Campers of all levels are welcome to learn and compete.\nCamp details:\n\nAges: 6-18\nCost: $200\nCheck-In: First day of camp / 8:30 AM\nCamp Runs: 9:00 AM – 12:00 PM\n\nRegister Now \nLearn More
URL:https://betheluniversity.edu/event/boys-girls-tennis-camp-3/
LOCATION:Wiekamp Athletic Center\, 1001 Bethel Circle\, Mishawaka\, IN\, 46545\, United States
CATEGORIES:Summer Camps,Athletics
ATTACH;FMTTYPE=image/jpeg:https://betheluniversity.edu/wp-content/uploads/2023/09/Athletics-Logo-Event-498x280-1.jpg
ORGANIZER;CN="Bethel University Athletics Department":MAILTO:Athletics@BethelUniversity.edu
END:VEVENT
BEGIN:VEVENT
DTSTART;VALUE=DATE:20260713
DTEND;VALUE=DATE:20260717
DTSTAMP:20260422T074852
CREATED:20260416T145756Z
LAST-MODIFIED:20260416T234408Z
UID:10001087-1783900800-1784246399@betheluniversity.edu
SUMMARY:Girls Lacrosse Day Camp
DESCRIPTION:A skills-focused camp for players to improve their fundamentals and game understanding. Campers will learn through drills\, competition\, and team play.\nCamp details:\n\nAges: 8-18\nCost: $230\nCheck-In: First day of camp / 8:30 AM\nCamp Runs: 9:00 AM – 3:00 PM\n\nRegister Now \nLearn More
URL:https://betheluniversity.edu/event/girls-lacrosse-day-camp/
LOCATION:Wiekamp Athletic Center\, 1001 Bethel Circle\, Mishawaka\, IN\, 46545\, United States
CATEGORIES:Summer Camps,Athletics
ATTACH;FMTTYPE=image/jpeg:https://betheluniversity.edu/wp-content/uploads/2023/09/Athletics-Logo-Event-498x280-1.jpg
ORGANIZER;CN="Bethel University Athletics Department":MAILTO:Athletics@BethelUniversity.edu
END:VEVENT
BEGIN:VEVENT
DTSTART;VALUE=DATE:20260715
DTEND;VALUE=DATE:20260719
DTSTAMP:20260422T074852
CREATED:20260410T153551Z
LAST-MODIFIED:20260416T234726Z
UID:10001082-1784073600-1784419199@betheluniversity.edu
SUMMARY:Girls & Boys Junior Pilot Camp
DESCRIPTION:A great introduction to basketball for younger campers with a focus on fundamentals and fun. Perfect for building confidence and learning the game in a positive environment.\nCamp details:\n\nAges: 4-7\nCost: $80\nCheck-In: First day of camp / 8:30 AM\nCamp Runs: 9:00 AM – 11:00 AM\n\nRegister Now \nLearn More
URL:https://betheluniversity.edu/event/girls-boys-junior-pilot-camp/
LOCATION:Wiekamp Athletic Center\, 1001 Bethel Circle\, Mishawaka\, IN\, 46545\, United States
CATEGORIES:Summer Camps,Athletics
ATTACH;FMTTYPE=image/jpeg:https://betheluniversity.edu/wp-content/uploads/2023/09/Athletics-Logo-Event-498x280-1.jpg
ORGANIZER;CN="Bethel University Athletics Department":MAILTO:Athletics@BethelUniversity.edu
END:VEVENT
BEGIN:VEVENT
DTSTART;VALUE=DATE:20260720
DTEND;VALUE=DATE:20260724
DTSTAMP:20260422T074852
CREATED:20260410T153551Z
LAST-MODIFIED:20260416T234355Z
UID:10001081-1784505600-1784851199@betheluniversity.edu
SUMMARY:Girls Basketball Day Camp
DESCRIPTION:A full-day camp designed to help players grow their basketball skills through instruction and game play. Campers will develop fundamentals while competing and having fun.\nCamp details:\n\nAges: 8-13\nCost: $200\nCheck-In: First day of camp / 8:30 AM\nCamp Runs: 9:30 AM – 3:00 PM\n\nRegister Now \nLearn More
URL:https://betheluniversity.edu/event/girls-basketball-day-camp-2/
LOCATION:Wiekamp Athletic Center\, 1001 Bethel Circle\, Mishawaka\, IN\, 46545\, United States
CATEGORIES:Summer Camps,Athletics
ATTACH;FMTTYPE=image/jpeg:https://betheluniversity.edu/wp-content/uploads/2023/09/Athletics-Logo-Event-498x280-1.jpg
ORGANIZER;CN="Bethel University Athletics Department":MAILTO:Athletics@BethelUniversity.edu
END:VEVENT
BEGIN:VEVENT
DTSTART;VALUE=DATE:20260720
DTEND;VALUE=DATE:20260724
DTSTAMP:20260422T074852
CREATED:20260416T145756Z
LAST-MODIFIED:20260416T234348Z
UID:10001089-1784505600-1784851199@betheluniversity.edu
SUMMARY:Girls Soccer Youth Day Camp
DESCRIPTION:A fun and engaging camp for players to build soccer skills and confidence. Campers will learn through drills\, games\, and team activities.\nCamp details:\n\nAges: 8-13\nCost: $125\nCheck-In: First day of camp / 8:30 AM\nCamp Runs: 9:00 AM – 12:00 PM\n\nRegister Now \nLearn More
URL:https://betheluniversity.edu/event/girls-soccer-youth-day-camp/
LOCATION:Wiekamp Athletic Center\, 1001 Bethel Circle\, Mishawaka\, IN\, 46545\, United States
CATEGORIES:Summer Camps,Athletics
ATTACH;FMTTYPE=image/jpeg:https://betheluniversity.edu/wp-content/uploads/2023/09/Athletics-Logo-Event-498x280-1.jpg
ORGANIZER;CN="Bethel University Athletics Department":MAILTO:Athletics@BethelUniversity.edu
END:VEVENT
BEGIN:VEVENT
DTSTART;VALUE=DATE:20260723
DTEND;VALUE=DATE:20260727
DTSTAMP:20260422T074852
CREATED:20260410T153551Z
LAST-MODIFIED:20260416T234125Z
UID:10001095-1784764800-1785110399@betheluniversity.edu
SUMMARY:Boys Volleyball Elite Prospect Day/Overnight Camp
DESCRIPTION:A high-level camp for players looking to compete at the next level. Campers will train\, compete\, and experience what it’s like to play volleyball at Bethel.\nCamp details:\n\nAges: 13-18\nCommuter Cost: $225\nOvernight Camp Cost: $325\nCheck-In: First day of camp (Thursday) /  4:00 PM\nCheck-Out: Final day of camp (Sunday) /  4:00 PM\n\nRegister Now \nLearn More
URL:https://betheluniversity.edu/event/boys-volleyball-elite-prospect-day-overnight-camp/
LOCATION:Wiekamp Athletic Center\, 1001 Bethel Circle\, Mishawaka\, IN\, 46545\, United States
CATEGORIES:Summer Camps,Athletics
ATTACH;FMTTYPE=image/jpeg:https://betheluniversity.edu/wp-content/uploads/2023/09/Athletics-Logo-Event-498x280-1.jpg
ORGANIZER;CN="Bethel University Athletics Department":MAILTO:Athletics@BethelUniversity.edu
END:VEVENT
END:VCALENDAR