BEGIN:VCALENDAR
VERSION:2.0
PRODID:-//Bethel University - ECPv6.15.16//NONSGML v1.0//EN
CALSCALE:GREGORIAN
METHOD:PUBLISH
X-WR-CALNAME:Bethel University
X-ORIGINAL-URL:https://betheluniversity.edu
X-WR-CALDESC:Events for Bethel University
REFRESH-INTERVAL;VALUE=DURATION:PT1H
X-Robots-Tag:noindex
X-PUBLISHED-TTL:PT1H
BEGIN:VTIMEZONE
TZID:America/Indiana/Indianapolis
BEGIN:DAYLIGHT
TZOFFSETFROM:-0500
TZOFFSETTO:-0400
TZNAME:EDT
DTSTART:20230312T070000
END:DAYLIGHT
BEGIN:STANDARD
TZOFFSETFROM:-0400
TZOFFSETTO:-0500
TZNAME:EST
DTSTART:20231105T060000
END:STANDARD
BEGIN:DAYLIGHT
TZOFFSETFROM:-0500
TZOFFSETTO:-0400
TZNAME:EDT
DTSTART:20240310T070000
END:DAYLIGHT
BEGIN:STANDARD
TZOFFSETFROM:-0400
TZOFFSETTO:-0500
TZNAME:EST
DTSTART:20241103T060000
END:STANDARD
BEGIN:DAYLIGHT
TZOFFSETFROM:-0500
TZOFFSETTO:-0400
TZNAME:EDT
DTSTART:20250309T070000
END:DAYLIGHT
BEGIN:STANDARD
TZOFFSETFROM:-0400
TZOFFSETTO:-0500
TZNAME:EST
DTSTART:20251102T060000
END:STANDARD
BEGIN:DAYLIGHT
TZOFFSETFROM:-0500
TZOFFSETTO:-0400
TZNAME:EDT
DTSTART:20260308T070000
END:DAYLIGHT
BEGIN:STANDARD
TZOFFSETFROM:-0400
TZOFFSETTO:-0500
TZNAME:EST
DTSTART:20261101T060000
END:STANDARD
BEGIN:DAYLIGHT
TZOFFSETFROM:-0500
TZOFFSETTO:-0400
TZNAME:EDT
DTSTART:20270314T070000
END:DAYLIGHT
BEGIN:STANDARD
TZOFFSETFROM:-0400
TZOFFSETTO:-0500
TZNAME:EST
DTSTART:20271107T060000
END:STANDARD
END:VTIMEZONE
BEGIN:VEVENT
DTSTART;VALUE=DATE:20260417
DTEND;VALUE=DATE:20260419
DTSTAMP:20260422T075225
CREATED:20260416T151825Z
LAST-MODIFIED:20260416T164552Z
UID:10001066-1776384000-1776556799@betheluniversity.edu
SUMMARY:WHAC Volleyball Tournament
DESCRIPTION:As the #1 seed\, Bethel University is set to host the semifinals and finals of the WHAC Men’s Volleyball Tournament.
URL:https://betheluniversity.edu/event/whac-volleyball-tournament/
LOCATION:Wiekamp Athletic Center\, 1001 Bethel Circle\, Mishawaka\, IN\, 46545\, United States
CATEGORIES:Athletics
ATTACH;FMTTYPE=image/jpeg:https://betheluniversity.edu/wp-content/uploads/2023/09/Athletics-Logo-Event-498x280-1.jpg
ORGANIZER;CN="Bethel University Athletics Department":MAILTO:Athletics@BethelUniversity.edu
END:VEVENT
BEGIN:VEVENT
DTSTART;TZID=America/Indiana/Indianapolis:20251115T120000
DTEND;TZID=America/Indiana/Indianapolis:20251115T153000
DTSTAMP:20260422T075225
CREATED:20251016T173859Z
LAST-MODIFIED:20251016T174327Z
UID:10001006-1763208000-1763220600@betheluniversity.edu
SUMMARY:Hoops and Hot Dogs
DESCRIPTION:Hoops and Hot Dogs is back!\nWe’re giving free hot dogs and admission for alumni and their families to watch our men’s and women’s basketball games. Join us for one or both of the basketball games vs. Saint Xavier University (Ill.) and Rochester Christian University!\n\n12-1:30 p.m. – Lady Pilots vs. Rochester Christian University\n2-3:30 p.m. – Bethel Pilots vs. Saint Xavier University (Ill.)
URL:https://betheluniversity.edu/event/hoops-hot-dogs-2025/
LOCATION:Wiekamp Athletic Center\, 1001 Bethel Circle\, Mishawaka\, IN\, 46545\, United States
CATEGORIES:Alumni,Athletics,Homecoming
ATTACH;FMTTYPE=image/jpeg:https://betheluniversity.edu/wp-content/uploads/2023/05/Bethel-Alumni-Logo-498x280-1.jpg
ORGANIZER;CN="Bethel University Alumni Association":MAILTO:Alumni@BethelUniversity.edu
END:VEVENT
BEGIN:VEVENT
DTSTART;TZID=America/Indiana/Indianapolis:20250503T140000
DTEND;TZID=America/Indiana/Indianapolis:20250503T153000
DTSTAMP:20260422T075225
CREATED:20240207T154204Z
LAST-MODIFIED:20240524T123205Z
UID:10000694-1746280800-1746286200@betheluniversity.edu
SUMMARY:Commencement 2025
DESCRIPTION:Join us for the 78th Commencement Ceremony!\nThere will be one combined ceremony this year. All events will be live-streamed from our main page (BethelUniversity.edu). \n \nGraduating with Honors\nGraduates receiving a bachelor’s degree wit ha cumulative grade point average of 3.5 or greater\, and have earned at least 45 credit hours at Bethel\, will be awarded the following academic distinction: \n\nCum Laude – GPA of 3.5\nMagna Cume Laude – GPA of 3.75\nSumma Cume Laude – GPA of 3.9\n\nMore info coming in 2025!\nAdditional Questions?\nIf you have other questions about our commencement ceremony or other graduation events\, please contact Kelly Amstutz at Kelly.Amstutz@betheluniversity.edu.
URL:https://betheluniversity.edu/event/commencement-2025/
LOCATION:Wiekamp Athletic Center\, 1001 Bethel Circle\, Mishawaka\, IN\, 46545\, United States
CATEGORIES:Academics,Commencement
ATTACH;FMTTYPE=image/jpeg:https://betheluniversity.edu/wp-content/uploads/2023/06/Bethel-Seal-Event-498x280-1.jpg
END:VEVENT
BEGIN:VEVENT
DTSTART;TZID=America/Indiana/Indianapolis:20250222T130000
DTEND;TZID=America/Indiana/Indianapolis:20250222T170000
DTSTAMP:20260422T075225
CREATED:20250203T154703Z
LAST-MODIFIED:20250203T155620Z
UID:10000848-1740229200-1740243600@betheluniversity.edu
SUMMARY:Hoops & Hot Dogs
DESCRIPTION:Hoops and Hot Dogs is back!\nWe’re giving free hot dogs and admission for alumni and their families to watch our men’s and women’s basketball games. Join us for one or both of the baskball games vs. Taylor University! \n\n1 p.m. – Lady Pilots vs. Taylor Trojans\n3 p.m. – Bethel Pilots vs. Taylor Trojans
URL:https://betheluniversity.edu/event/hoops-hot-dogs/
LOCATION:Wiekamp Athletic Center\, 1001 Bethel Circle\, Mishawaka\, IN\, 46545\, United States
CATEGORIES:Alumni,Athletics
ATTACH;FMTTYPE=image/jpeg:https://betheluniversity.edu/wp-content/uploads/2023/05/Bethel-Alumni-Logo-498x280-1.jpg
ORGANIZER;CN="Bethel University Alumni Association":MAILTO:Alumni@BethelUniversity.edu
END:VEVENT
BEGIN:VEVENT
DTSTART;TZID=America/Indiana/Indianapolis:20241005T130000
DTEND;TZID=America/Indiana/Indianapolis:20241005T160000
DTSTAMP:20260422T075225
CREATED:20240829T210904Z
LAST-MODIFIED:20241007T132632Z
UID:10000803-1728133200-1728144000@betheluniversity.edu
SUMMARY:Dodgeball Tournament
DESCRIPTION:Find five of your closest friends\, and sign up to see who will bring home the championship!\nRegistration is $10 per person. All players will receive a tournament T-shirt. \nRegistration Closed \nSee More Bethel Athletic Events \nCheck out more Homecoming 2024 Events
URL:https://betheluniversity.edu/event/dodgeball-tournament/
LOCATION:Wiekamp Athletic Center\, 1001 Bethel Circle\, Mishawaka\, IN\, 46545\, United States
CATEGORIES:Alumni,Athletics,Homecoming
ATTACH;FMTTYPE=image/jpeg:https://betheluniversity.edu/wp-content/uploads/2023/09/Athletics-Logo-Event-498x280-1.jpg
ORGANIZER;CN="Bethel University Athletics Department":MAILTO:Athletics@BethelUniversity.edu
END:VEVENT
BEGIN:VEVENT
DTSTART;VALUE=DATE:20241005
DTEND;VALUE=DATE:20241006
DTSTAMP:20260422T075225
CREATED:20240207T155524Z
LAST-MODIFIED:20241007T132504Z
UID:10000696-1728086400-1728172799@betheluniversity.edu
SUMMARY:Basketball Reunion
DESCRIPTION:Join us for a morning of basketball:\n\n10 a.m. – Intrasquad scrimmage\n11:15 a.m. – Alumni game\n12:30 p.m. – Lunch\n\nRegistration Closed \nSee More Bethel Athletic Events \nCheck out more Homecoming 2024 Events
URL:https://betheluniversity.edu/event/basketball-reunion/
LOCATION:Wiekamp Athletic Center\, 1001 Bethel Circle\, Mishawaka\, IN\, 46545\, United States
CATEGORIES:Alumni,Reunions,Athletics,Homecoming
ATTACH;FMTTYPE=image/jpeg:https://betheluniversity.edu/wp-content/uploads/2023/09/Athletics-Logo-Event-498x280-1.jpg
ORGANIZER;CN="Bethel University Alumni Association":MAILTO:Alumni@BethelUniversity.edu
END:VEVENT
BEGIN:VEVENT
DTSTART;TZID=America/Indiana/Indianapolis:20241001T180000
DTEND;TZID=America/Indiana/Indianapolis:20241001T200000
DTSTAMP:20260422T075225
CREATED:20240613T171209Z
LAST-MODIFIED:20240917T134215Z
UID:10000711-1727805600-1727812800@betheluniversity.edu
SUMMARY:Mishawaka/South Bend NACCAP College Fair 2024
DESCRIPTION:Join us for the NACCAP College Fair on Oct. 1 in the Wiekamp Athletic Center on Bethel’s campus. This event is free and open to the public. Register today and receive your personalized list of matched schools to use as a roadmap at the fair. See a full list of attending schools and register now! \nContact Christine Dickinson\, director of admission\, with questions at Christine.Dickinson@BethelUniversity.edu or 574.807.7600.
URL:https://betheluniversity.edu/event/naccap-college-fair-2024/
LOCATION:Wiekamp Athletic Center\, 1001 Bethel Circle\, Mishawaka\, IN\, 46545\, United States
CATEGORIES:Admissions
ORGANIZER;CN="Bethel University Admission Office":MAILTO:Admissions@BethelUniversity.edu
END:VEVENT
BEGIN:VEVENT
DTSTART;TZID=America/Indiana/Indianapolis:20240504T140000
DTEND;TZID=America/Indiana/Indianapolis:20240504T153000
DTSTAMP:20260422T075225
CREATED:20230622T171410Z
LAST-MODIFIED:20240417T174825Z
UID:10000555-1714831200-1714836600@betheluniversity.edu
SUMMARY:Commencement 2024
DESCRIPTION:Join us for the 77th Commencement Ceremony!\nThere will be one combined ceremony this year. All events will be live-streamed from our main page (BethelUniversity.edu). \n \nGraduating with Honors\nGraduates receiving a bachelor’s degree wit ha cumulative grade point average of 3.5 or greater\, and have earned at least 45 credit hours at Bethel\, will be awarded the following academic distinction: \n\nCum Laude – GPA of 3.5\nMagna Cume Laude – GPA of 3.75\nSumma Cume Laude – GPA of 3.9\n\n \nAbout Our Speaker\nAlumnus Blessing ‘Yemi’ Mobolade\, mayor of Colorado Springs\, Colo.\, will be the speaker for this year’s commencement ceremony. \n  \nTickets\nThe Saturday\, May 4\, 2024\, commencement ceremony is a ticketed event. Tickets will be required to attend the ceremony. Each graduate will be given 6 guest tickets. No additional tickets will be available due to venue capacity. \nTickets for the Commencement Ceremony are available to be picked up in the Campus Store. \nThe ceremony will be live-streamed on our main page for those unable to attend in person. Guests may also view the ceremony from Sufficient Grounds and the Campus Store. \nSeating\nGeneral Seating\nWe suggest guests arrive about 1 hour prior to the ceremony start time when doors will be open. Ushers can assist with moving chairs for wheelchairs\, walkers\, etc. \nSpecial arrangements needed?\nPlease contact Kelly Amstutz at Kelly.Amstutz@BethelUniversity.edu if there is an injury or disability that will require special accommodations at commencement. \nOn-Campus Streaming\nSeating is also available in Sufficient Grounds Coffee House and Campus Store\, where the ceremony will be shown via livestream. \nSeating Questions\nPlease contact Kelly Amstutz with specific questions via email at Kelly.Amstutz@BethelUniversity.edu or by calling 574.807.7190. \nRehearsal\nRehearsal will begin one hour before the ceremony the day of commencement in the Everest-Rohrer Auditorium. Students must be there promptly to prepare for the ceremony. This year there is only one ceremony for all Traditional\, Adult and Graduate Studies graduates. \n\nMay 4 Nurse Pinning:\nRehearsal begins at 8:30 a.m. with the Ceremony at 9 a.m.\nThose with speaking or singing parts are asked to arrive by 8 a.m. for a sound check.\nMay 4 Commencement:\nRehearsal begins at 1 p.m. with the Ceremony at 2 p.m.\n\nIn the event of bad weather\, rehearsal will be in Goodman Gymnasium. Signs will be posted directing graduates to Goodman\, if necessary. \nNurse Pinning\nEvent Details\nThe Nurse Pinning service will be on Saturday\, May 4\, 2024\, at 9 a.m.\, in the Everest-Rohrer auditorium. \nNurse Pinning Rehearsal\nThere will be a mandatory rehearsal for pinning at 8:30 a.m.\, in the Everest-Rohrer auditorium. Those with speaking or singing parts are asked to arrive by 8 a.m. for a sound check. \nGuests\nThere is no limit to the number of guests that may attend the pinning ceremony for each graduate. The pinning program will also be livestreamed. \nQuestions about Nursing Pinning\nIf you have questions\, feel free to contact Jill Lyon (Jill.Lyon@BethelUniversity.edu) or Tina Kendall (Tina.Kendall@BethelUniversity.edu). \nCampus Store Hours\nThe Campus Store will be open starting at 9 a.m. on the day of Commencement. The store will have an extensive inventory of Bethel apparel as well as very attractive diploma frames with mat. \nMore Details\nDetails for Graduates & Their Families \nAdditional Questions?\nIf you have other questions about our commencement ceremony or other graduation events\, please contact Kelly Amstutz at Kelly.Amstutz@BethelUniversity.edu.
URL:https://betheluniversity.edu/event/2024-commencement/
LOCATION:Wiekamp Athletic Center\, 1001 Bethel Circle\, Mishawaka\, IN\, 46545\, United States
CATEGORIES:Academics,Commencement
ATTACH;FMTTYPE=image/jpeg:https://betheluniversity.edu/wp-content/uploads/2023/06/Bethel-Seal-Event-498x280-1.jpg
END:VEVENT
END:VCALENDAR