BEGIN:VCALENDAR
VERSION:2.0
PRODID:-//Bethel University - ECPv6.15.16//NONSGML v1.0//EN
CALSCALE:GREGORIAN
METHOD:PUBLISH
X-WR-CALNAME:Bethel University
X-ORIGINAL-URL:https://betheluniversity.edu
X-WR-CALDESC:Events for Bethel University
REFRESH-INTERVAL;VALUE=DURATION:PT1H
X-Robots-Tag:noindex
X-PUBLISHED-TTL:PT1H
BEGIN:VTIMEZONE
TZID:America/Indiana/Indianapolis
BEGIN:DAYLIGHT
TZOFFSETFROM:-0500
TZOFFSETTO:-0400
TZNAME:EDT
DTSTART:20250309T070000
END:DAYLIGHT
BEGIN:STANDARD
TZOFFSETFROM:-0400
TZOFFSETTO:-0500
TZNAME:EST
DTSTART:20251102T060000
END:STANDARD
BEGIN:DAYLIGHT
TZOFFSETFROM:-0500
TZOFFSETTO:-0400
TZNAME:EDT
DTSTART:20260308T070000
END:DAYLIGHT
BEGIN:STANDARD
TZOFFSETFROM:-0400
TZOFFSETTO:-0500
TZNAME:EST
DTSTART:20261101T060000
END:STANDARD
BEGIN:DAYLIGHT
TZOFFSETFROM:-0500
TZOFFSETTO:-0400
TZNAME:EDT
DTSTART:20270314T070000
END:DAYLIGHT
BEGIN:STANDARD
TZOFFSETFROM:-0400
TZOFFSETTO:-0500
TZNAME:EST
DTSTART:20271107T060000
END:STANDARD
END:VTIMEZONE
BEGIN:VEVENT
DTSTART;TZID=America/Indiana/Indianapolis:20260416T190000
DTEND;TZID=America/Indiana/Indianapolis:20260416T200000
DTSTAMP:20260420T043039
CREATED:20251210T223018Z
LAST-MODIFIED:20260416T233724Z
UID:10001027-1776366000-1776369600@betheluniversity.edu
SUMMARY:Spring Orchestra and Percussion Concert
DESCRIPTION:Celebrate America with Bethel’s Chamber Orchestra and Percussion Ensemble in an evening of music highlighting a variety of American works and styles.
URL:https://betheluniversity.edu/event/spring-orchestra-and-percussion-concert/
LOCATION:Everest-Rohrer Chapel/Fine Arts Center – Auditorium\, 1001 Bethel Circle\, Mishawaka\, IN\, 46545\, United States
CATEGORIES:Fine Arts,Music
ATTACH;FMTTYPE=image/png:https://betheluniversity.edu/wp-content/uploads/2025/12/Celebrate-America-Orchestra-and-Percussion_web-event.png
END:VEVENT
END:VCALENDAR